BEGIN:VCALENDAR
VERSION:2.0
PRODID:icalendar-ruby
CALSCALE:GREGORIAN
METHOD:PUBLISH
BEGIN:VEVENT
DTSTAMP:20260421T122248Z
UID:258-490926@calvarycr.org
DTSTART:20260816T213000Z
DTEND:20260817T010000Z
CLASS:PUBLIC
CREATED:20260320T152630
DESCRIPTION:
LAST-MODIFIED:20260320T152630
LOCATION:
SUMMARY:Church Picnic at Morgan Creek Park
URL;VALUE=URI:https://www.calvarycr.org/events/church-picnic-at-morgan-cree
 k-park/2026-08-16
END:VEVENT
END:VCALENDAR
