BEGIN:VCALENDAR
VERSION:2.0
PRODID:icalendar-ruby
CALSCALE:GREGORIAN
METHOD:PUBLISH
BEGIN:VEVENT
DTSTAMP:20260421T121942Z
UID:254-490839@calvarycr.org
DTSTART:20260713T190000Z
DTEND:20260713T220000Z
CLASS:PUBLIC
CREATED:20260320T151515
DESCRIPTION:
LAST-MODIFIED:20260320T151515
LOCATION:
SUMMARY:ImpactLife Blood Drive
URL;VALUE=URI:https://www.calvarycr.org/events/impactlife-blood-drive--254/
 2026-07-13
END:VEVENT
END:VCALENDAR
