BEGIN:VCALENDAR
VERSION:2.0
PRODID:icalendar-ruby
CALSCALE:GREGORIAN
METHOD:PUBLISH
BEGIN:VEVENT
DTSTAMP:20260419T135751Z
UID:266-558608@calvarycr.org
DTSTART:20260927T230000Z
DTEND:20260928T001500Z
CLASS:PUBLIC
CREATED:20260414T131731
DESCRIPTION:
LAST-MODIFIED:20260414T131731
LOCATION:
SUMMARY:Ministry Training Electives
URL;VALUE=URI:https://www.calvarycr.org/events/ministry-training-electives-
 -266/2026-09-27
END:VEVENT
END:VCALENDAR
