BEGIN:VCALENDAR
VERSION:2.0
PRODID:icalendar-ruby
CALSCALE:GREGORIAN
METHOD:PUBLISH
BEGIN:VEVENT
DTSTAMP:20260419T231030Z
UID:266-558613@calvarycr.org
DTSTART:20261102T000000Z
DTEND:20261102T011500Z
CLASS:PUBLIC
CREATED:20260414T131731
DESCRIPTION:
LAST-MODIFIED:20260414T131731
LOCATION:
SUMMARY:Ministry Training Electives
URL;VALUE=URI:https://www.calvarycr.org/events/ministry-training-electives-
 -266/2026-11-01
END:VEVENT
END:VCALENDAR
