BEGIN:VCALENDAR
VERSION:2.0
PRODID:icalendar-ruby
CALSCALE:GREGORIAN
METHOD:PUBLISH
BEGIN:VEVENT
DTSTAMP:20260419T232335Z
UID:263-520634@calvarycr.org
DTSTART:20260728T163000Z
DTEND:20260728T193000Z
CLASS:PUBLIC
CREATED:20260331T135336
DESCRIPTION:
LAST-MODIFIED:20260331T135336
LOCATION:
SUMMARY:Salt & Pepper Retirees Fellowship 
URL;VALUE=URI:https://www.calvarycr.org/events/salt-pepper-retirees-fellows
 hip--263/2026-07-28
END:VEVENT
END:VCALENDAR
