BEGIN:VCALENDAR
VERSION:2.0
PRODID:icalendar-ruby
CALSCALE:GREGORIAN
METHOD:PUBLISH
BEGIN:VEVENT
DTSTAMP:20260421T102935Z
UID:267-558736@calvarycr.org
DTSTART:20260922T163000Z
DTEND:20260922T193000Z
CLASS:PUBLIC
CREATED:20260414T132411
DESCRIPTION:
LAST-MODIFIED:20260414T132411
LOCATION:
SUMMARY:Salt & Pepper Retirees Fellowship
URL;VALUE=URI:https://www.calvarycr.org/events/salt-pepper-retirees-fellows
 hip--267/2026-09-22
END:VEVENT
END:VCALENDAR
